BEGIN:VCALENDAR
VERSION:2.0
PRODID:-//Seifenfabrik Veranstaltungszentrum - ECPv6.15.17//NONSGML v1.0//EN
CALSCALE:GREGORIAN
METHOD:PUBLISH
X-WR-CALNAME:Seifenfabrik Veranstaltungszentrum
X-ORIGINAL-URL:https://www.seifenfabrik.info
X-WR-CALDESC:Veranstaltungen für Seifenfabrik Veranstaltungszentrum
REFRESH-INTERVAL;VALUE=DURATION:PT1H
X-Robots-Tag:noindex
X-PUBLISHED-TTL:PT1H
BEGIN:VTIMEZONE
TZID:Europe/Berlin
BEGIN:DAYLIGHT
TZOFFSETFROM:+0100
TZOFFSETTO:+0200
TZNAME:CEST
DTSTART:20250330T010000
END:DAYLIGHT
BEGIN:STANDARD
TZOFFSETFROM:+0200
TZOFFSETTO:+0100
TZNAME:CET
DTSTART:20251026T010000
END:STANDARD
BEGIN:DAYLIGHT
TZOFFSETFROM:+0100
TZOFFSETTO:+0200
TZNAME:CEST
DTSTART:20260329T010000
END:DAYLIGHT
BEGIN:STANDARD
TZOFFSETFROM:+0200
TZOFFSETTO:+0100
TZNAME:CET
DTSTART:20261025T010000
END:STANDARD
BEGIN:DAYLIGHT
TZOFFSETFROM:+0100
TZOFFSETTO:+0200
TZNAME:CEST
DTSTART:20270328T010000
END:DAYLIGHT
BEGIN:STANDARD
TZOFFSETFROM:+0200
TZOFFSETTO:+0100
TZNAME:CET
DTSTART:20271031T010000
END:STANDARD
END:VTIMEZONE
BEGIN:VEVENT
DTSTART;TZID=Europe/Berlin:20260424T150000
DTEND;TZID=Europe/Berlin:20260424T233000
DTSTAMP:20260421T144043
CREATED:20260306T110309Z
LAST-MODIFIED:20260316T112643Z
UID:12878-1777042800-1777073400@www.seifenfabrik.info
SUMMARY:ART EXPO GRAZ
DESCRIPTION:Kreative Harmonie erleben auf der ART Expo Graz\n  \nDie ART Expo Graz lädt vom 24. bis 26. April 2026 nach Graz ein und eröffnet einen einzigartigen Zugang zum pulsierenden Kunstgeschehen Mitteleuropas. In einer der kulturell lebendigsten Städte Österreichs vereint diese sorgfältig kuratierte internationale Kunstmesse Künstler:innen\, Sammler:innen und Kunstliebhaber:innen an einem außergewöhnlichen Ort\, der industriellen Charme mit zeitgenössischer Kreativität verbindet. \n  \nErleben Sie Graz als Bühne für Innovation\, Inspiration und künstlerischen Austausch – und sehen Sie Werke in einem Umfeld\, das Begegnungen schafft und kreative Impulse fördert. \n  \nBesucher:innen erwartet ein vielseitiges Angebot aus Konzerten\, Tanz\, Lyrik- und Literaturlesungen\, Live-Art-Performances sowie Diskussionsformaten\, die sich mit der Rolle der Kunst in der heutigen Gesellschaft auseinandersetzen. \n  \nWeitere Informationen unter folgenden Link und in Kürze auf unserer Website! \nGRAZ | ART Expo International
URL:https://www.seifenfabrik.info/termine/art-expo-graz/
LOCATION:Seifenfabrik\, Angergasse 43\, Graz\, 8010
END:VEVENT
BEGIN:VEVENT
DTSTART;TZID=Europe/Berlin:20260425T100000
DTEND;TZID=Europe/Berlin:20260425T233000
DTSTAMP:20260421T144043
CREATED:20260316T112805Z
LAST-MODIFIED:20260316T112805Z
UID:12911-1777111200-1777159800@www.seifenfabrik.info
SUMMARY:ART EXPO GRAZ
DESCRIPTION:Kreative Harmonie erleben auf der ART Expo Graz\n  \nDie ART Expo Graz lädt vom 24. bis 26. April 2026 nach Graz ein und eröffnet einen einzigartigen Zugang zum pulsierenden Kunstgeschehen Mitteleuropas. In einer der kulturell lebendigsten Städte Österreichs vereint diese sorgfältig kuratierte internationale Kunstmesse Künstler:innen\, Sammler:innen und Kunstliebhaber:innen an einem außergewöhnlichen Ort\, der industriellen Charme mit zeitgenössischer Kreativität verbindet. \n  \nErleben Sie Graz als Bühne für Innovation\, Inspiration und künstlerischen Austausch – und sehen Sie Werke in einem Umfeld\, das Begegnungen schafft und kreative Impulse fördert. \n  \nBesucher:innen erwartet ein vielseitiges Angebot aus Konzerten\, Tanz\, Lyrik- und Literaturlesungen\, Live-Art-Performances sowie Diskussionsformaten\, die sich mit der Rolle der Kunst in der heutigen Gesellschaft auseinandersetzen. \n  \nWeitere Informationen unter folgenden Link und in Kürze auf unserer Website! \nGRAZ | ART Expo International
URL:https://www.seifenfabrik.info/termine/art-expo-graz-2/
END:VEVENT
BEGIN:VEVENT
DTSTART;TZID=Europe/Berlin:20260426T100000
DTEND;TZID=Europe/Berlin:20260426T183000
DTSTAMP:20260421T144043
CREATED:20260316T112903Z
LAST-MODIFIED:20260316T112903Z
UID:12913-1777197600-1777228200@www.seifenfabrik.info
SUMMARY:ART EXPO GRAZ
DESCRIPTION:Kreative Harmonie erleben auf der ART Expo Graz\n  \nDie ART Expo Graz lädt vom 24. bis 26. April 2026 nach Graz ein und eröffnet einen einzigartigen Zugang zum pulsierenden Kunstgeschehen Mitteleuropas. In einer der kulturell lebendigsten Städte Österreichs vereint diese sorgfältig kuratierte internationale Kunstmesse Künstler:innen\, Sammler:innen und Kunstliebhaber:innen an einem außergewöhnlichen Ort\, der industriellen Charme mit zeitgenössischer Kreativität verbindet. \n  \nErleben Sie Graz als Bühne für Innovation\, Inspiration und künstlerischen Austausch – und sehen Sie Werke in einem Umfeld\, das Begegnungen schafft und kreative Impulse fördert. \n  \nBesucher:innen erwartet ein vielseitiges Angebot aus Konzerten\, Tanz\, Lyrik- und Literaturlesungen\, Live-Art-Performances sowie Diskussionsformaten\, die sich mit der Rolle der Kunst in der heutigen Gesellschaft auseinandersetzen. \n  \nWeitere Informationen unter folgenden Link und in Kürze auf unserer Website! \nGRAZ | ART Expo International
URL:https://www.seifenfabrik.info/termine/art-expo-graz-3/
END:VEVENT
BEGIN:VEVENT
DTSTART;TZID=Europe/Berlin:20260509T100000
DTEND;TZID=Europe/Berlin:20260509T180000
DTSTAMP:20260421T144043
CREATED:20260306T101632Z
LAST-MODIFIED:20260306T102122Z
UID:12841-1778320800-1778349600@www.seifenfabrik.info
SUMMARY:Kunst- und Designmarkt Graz
DESCRIPTION:ÜBER 130 AUSSTELLER*INNEN IN- & OUTDOOR \n\nSa\, 09. Mai 2026 von 10:00 – 18:00 Uhr\nSo\, 10. Mai 2026 von 10:00 – 18:00 Uhr \n \nEin Wochenende lang steht das Seifenfabrik Veranstaltungszentrum beim Kunst- und Designmarkt Graz ganz im Zeichen aktueller Trends und individuellen Designs. Eine Produktvielfalt von Mode\, Schmuck\, Lifestyle\, Accessoires über die Fotografie bis hin zu Kunst\, Grafik\, Produkt- und Möbeldesign wird die Besucher begeistern.\n \nKünstler*innen\, Kunsthandwerker*innen\, Independent Labels\, Nachwuchstalente und Junggastronom*innen laden zum Austauschen\, Shoppen\, Verweilen\, Kaffee schlürfen\, Musik lauschen und Atmosphäre genießen ein.\n \n \n… GOOD TO KNOW …\n \n Tickets gibt´s vor Ort an der Tageskasse\n Eintritt € 5\,00 \n Kids und Jugendliche bis einschließlich 13 Jahre frei\n Bitte Hunde zu Hause lassen\n Rauchverbot\n  \nWeitere Infos gibt es unter: https://kunst-designmarkt.at/graz/ \nInteressierte Aussteller könne sich hier melden: Kunst & Designmarkt Ausstelleranmeldung (kunst-designmarkt.at)
URL:https://www.seifenfabrik.info/termine/kunst-und-designmarkt-graz/
LOCATION:Seifenfabrik\, Angergasse 43\, Graz\, 8010
END:VEVENT
BEGIN:VEVENT
DTSTART;TZID=Europe/Berlin:20260510T100000
DTEND;TZID=Europe/Berlin:20260510T180000
DTSTAMP:20260421T144043
CREATED:20260306T102007Z
LAST-MODIFIED:20260306T102114Z
UID:12847-1778407200-1778436000@www.seifenfabrik.info
SUMMARY:Kunst- und Designmarkt Graz
DESCRIPTION:ÜBER 130 AUSSTELLER*INNEN IN- & OUTDOOR \n\nSa\, 09. Mai 2026 von 10:00 – 18:00 Uhr\nSo\, 10. Mai 2026 von 10:00 – 18:00 Uhr \n \nEin Wochenende lang steht das Seifenfabrik Veranstaltungszentrum beim Kunst- und Designmarkt Graz ganz im Zeichen aktueller Trends und individuellen Designs. Eine Produktvielfalt von Mode\, Schmuck\, Lifestyle\, Accessoires über die Fotografie bis hin zu Kunst\, Grafik\, Produkt- und Möbeldesign wird die Besucher begeistern.\n \nKünstler*innen\, Kunsthandwerker*innen\, Independent Labels\, Nachwuchstalente und Junggastronom*innen laden zum Austauschen\, Shoppen\, Verweilen\, Kaffee schlürfen\, Musik lauschen und Atmosphäre genießen ein.\n \n \n… GOOD TO KNOW …\n \n Tickets gibt´s vor Ort an der Tageskasse\n Eintritt € 5\,00 \n Kids und Jugendliche bis einschließlich 13 Jahre frei\n Bitte Hunde zu Hause lassen\n Rauchverbot\n  \nWeitere Infos gibt es unter: https://kunst-designmarkt.at/graz/ \nInteressierte Aussteller könne sich hier melden: Kunst & Designmarkt Ausstelleranmeldung (kunst-designmarkt.at)
URL:https://www.seifenfabrik.info/termine/12847/
LOCATION:Seifenfabrik\, Angergasse 43\, Graz\, 8010
END:VEVENT
BEGIN:VEVENT
DTSTART;TZID=Europe/Berlin:20260516T100000
DTEND;TZID=Europe/Berlin:20260516T200000
DTSTAMP:20260421T144043
CREATED:20260306T103016Z
LAST-MODIFIED:20260306T103016Z
UID:12852-1778925600-1778961600@www.seifenfabrik.info
SUMMARY:CARD EXPO Austria
DESCRIPTION:Willkommen zur CARDEXPO Austria 2026 – dem größten Event für Sammelkarten-Fans\, Händler und Sammler in Österreich! \nTauche ein in eine Welt voller Sportkarten\, Pokémon\, TCG\, Grading\, Live-Breaks und exklusiver Trading-Momente. \n  \nAm Samstag\, den 16. Mai 2026\, verwandelt sich die Seifenfabrik Graz in den Treffpunkt für alle\, die Sammelkarten lieben – von klassischen Sportkarten bis zu modernen TCGs und seltenen Pokémon-Editionen. \nNeben zahlreichen Händlerständen erwarten dich exklusive Einzelverkäufe\, eine Austauschzone für Sammler\, spannende Live-Breaks\, sowie Expertengespräche rund um Themen wie Grading und Kartenbewertung. \n  \nErlebe eine einzigartige Messe rund ums Sammeln\, Tauschen und Entdecken:\nOb du gezielt suchst\, dich mit Profis austauschen willst oder einfach nur die Vielfalt der Szene genießen möchtest – hier findest du alles\, was dein Sammlerherz begehrt. \n  \nDas Event bietet die perfekte Gelegenheit\, neue Kontakte zu knüpfen\, Raritäten zu entdecken oder dein Wissen über die Sammelwelt zu erweitern. \n  \n🎟️ Tickets: \n• Tagesticket Erwachsene: 15 € \n• Early Bird Erwachsene: 12 € \n• Kinder bis 13 Jahre: 5 € (nur in Begleitung eines Erwachsenen) \n  \nWeitere Informationen und Tickets unter: \nCARD EXPO AUSTRIA: Österreichs größte Sammelkarten-Show. Tickets\, Sat\, May 16\, 2026 at 10:00 AM | Eventbrite \n 
URL:https://www.seifenfabrik.info/termine/card-expo-austria/
LOCATION:Seifenfabrik\, Angergasse 43\, Graz\, 8010
END:VEVENT
BEGIN:VEVENT
DTSTART;TZID=Europe/Berlin:20260528T160000
DTEND;TZID=Europe/Berlin:20260528T220000
DTSTAMP:20260421T144043
CREATED:20260306T110858Z
LAST-MODIFIED:20260306T110858Z
UID:12881-1779984000-1780005600@www.seifenfabrik.info
SUMMARY:Präsentation der Landessieger
DESCRIPTION:Die Weinbauabteilung der Landwirtschaftskammer Steiermark prämiert jährlich die besten Weine der Steiermark. \n  \nDie Landesweinbewertung der Landwirtschaftskammer ist traditionell der größte und wichtigste Weinwettbewerb der Steiermark und ist für die Weingüter ein Sprungbrett\, um nationale und internationale Aufmerksamkeit zu erreichen. \n  \nAm 28.05.2026 präsentiert man Ihnen die „BESTEN“ in der Seifenfabrik Graz! \n  \nÖffnungszeiten: \n16 – 22 Uhr \n  \nProgramm: \n16 – 20 Uhr Verkostung der Finalisten\n20:30 Uhr Präsentation der Landessieger und des „Weingut des Jahres“ \n  \nTickets: \nTicketinformationen folgen !
URL:https://www.seifenfabrik.info/termine/praesentation-der-landessieger/
LOCATION:Seifenfabrik\, Angergasse 43\, Graz\, 8010
END:VEVENT
BEGIN:VEVENT
DTSTART;TZID=Europe/Berlin:20260530T190000
DTEND;TZID=Europe/Berlin:20260531T020000
DTSTAMP:20260421T144043
CREATED:20260306T103331Z
LAST-MODIFIED:20260316T113136Z
UID:12856-1780167600-1780192800@www.seifenfabrik.info
SUMMARY:Maturaball der Graz Ortweinschule
DESCRIPTION:CASINO ROYALE – 5 Jahre aufs Spiel gesetzt! \n  \nAm 30.05.2026 wird wieder gefeiert! \n  \nFeiern Sie mit den Maturanten bis in die frühen Morgenstunden diese besondere Nacht!  \nFür besondere Stimmung sorgt die Band „Franky´s Band“ \nEinlass: 19:00 Uhr \n  \nTickets gibt es direkt bei den Maturanten und können auch über den Instagram Account @maturaballortwein_2026 reserviert werden \n 
URL:https://www.seifenfabrik.info/termine/maturaball-der-graz-ortweinschule/
LOCATION:Seifenfabrik\, Angergasse 43\, Graz\, 8010
END:VEVENT
BEGIN:VEVENT
DTSTART;TZID=Europe/Berlin:20260605T180000
DTEND;TZID=Europe/Berlin:20260606T020000
DTSTAMP:20260421T144043
CREATED:20260306T105738Z
LAST-MODIFIED:20260306T105738Z
UID:12871-1780682400-1780711200@www.seifenfabrik.info
SUMMARY:HanamiCon
DESCRIPTION:Die HanamiCon geht in die nächste Runde!\n \nDieses Mal wieder im Sinne des Kirschblütenfestes. Die Veranstalter werden euch in der Seifenfabrik ein wundervolles Fest bereiten. Drei Tage lang könnt ihr euch mit Gleichgesinnten treffen und in einer großartigen Umgebung mit Wettbewerben\, Events\, Partys und vielen Specials feiern!\n \n\nÖffnungszeiten Aussteller: \nSamstag: 11:00 – 20:00 \nSonntag: 11:00 – 18:00 \n\n  \nÖffnungszeiten Convention: \nFreitag: 18:00 – 02:00 Uhr \nSamstag: 11:00 – 01:00 \nSonntag: 11:00 – 18:00 \n  \nÖffnungszeiten Händler/Künstler: \nSamstag: 11:00 – 19:00 \nSonntag: 11:00 – 17:00 \n  \nÖffnungszeiten Maid Café: \nSamstag: 11:00 – 18:00 \nSonntag: 11:00 – 17:00 \n  \nTickets:\n \nEintritt bis 10 Jahre frei! \n  \nTickets könnt ihr online unter https://www.hanamicon.at/shop/ oder bei einer der Vorverkaufsstellen: Anigame (Jakoministraße 8\, 8010 Graz) / Planet-Japan (Ausstellungsstraße 47\, 1020 Wien)/ ChibiNeko (Paulitschgasse 4\, 9020 Klagenfurt am Wörthersee) erwerben. \n  \nSonstiges: \nWeitere Informationen findet Ihr direkt auf der Website unter: https://www.hanamicon.at/
URL:https://www.seifenfabrik.info/termine/hanamicon/
LOCATION:Seifenfabrik\, Angergasse 43\, Graz\, 8010
END:VEVENT
BEGIN:VEVENT
DTSTART;TZID=Europe/Berlin:20260606T110000
DTEND;TZID=Europe/Berlin:20260607T010000
DTSTAMP:20260421T144043
CREATED:20260306T105941Z
LAST-MODIFIED:20260306T105941Z
UID:12874-1780743600-1780794000@www.seifenfabrik.info
SUMMARY:HanamiCon
DESCRIPTION:Die HanamiCon geht in die nächste Runde!\n \nDieses Mal wieder im Sinne des Kirschblütenfestes. Die Veranstalter werden euch in der Seifenfabrik ein wundervolles Fest bereiten. Drei Tage lang könnt ihr euch mit Gleichgesinnten treffen und in einer großartigen Umgebung mit Wettbewerben\, Events\, Partys und vielen Specials feiern!\n \n\nÖffnungszeiten Aussteller: \nSamstag: 11:00 – 20:00 \nSonntag: 11:00 – 18:00 \n\n  \nÖffnungszeiten Convention: \nFreitag: 18:00 – 02:00 Uhr \nSamstag: 11:00 – 01:00 \nSonntag: 11:00 – 18:00 \n  \nÖffnungszeiten Händler/Künstler: \nSamstag: 11:00 – 19:00 \nSonntag: 11:00 – 17:00 \n  \nÖffnungszeiten Maid Café: \nSamstag: 11:00 – 18:00 \nSonntag: 11:00 – 17:00 \n  \nTickets:\n \nEintritt bis 10 Jahre frei! \n  \nTickets könnt ihr online unter https://www.hanamicon.at/shop/ oder bei einer der Vorverkaufsstellen: Anigame (Jakoministraße 8\, 8010 Graz) / Planet-Japan (Ausstellungsstraße 47\, 1020 Wien)/ ChibiNeko (Paulitschgasse 4\, 9020 Klagenfurt am Wörthersee) erwerben. \n  \nSonstiges: \nWeitere Informationen findet Ihr direkt auf der Website unter: https://www.hanamicon.at/
URL:https://www.seifenfabrik.info/termine/hanamicon-2/
END:VEVENT
BEGIN:VEVENT
DTSTART;TZID=Europe/Berlin:20260607T110000
DTEND;TZID=Europe/Berlin:20260607T180000
DTSTAMP:20260421T144043
CREATED:20260306T110055Z
LAST-MODIFIED:20260306T110127Z
UID:12876-1780830000-1780855200@www.seifenfabrik.info
SUMMARY:HanamiCon
DESCRIPTION:Die HanamiCon geht in die nächste Runde!\n \nDieses Mal wieder im Sinne des Kirschblütenfestes. Die Veranstalter werden euch in der Seifenfabrik ein wundervolles Fest bereiten. Drei Tage lang könnt ihr euch mit Gleichgesinnten treffen und in einer großartigen Umgebung mit Wettbewerben\, Events\, Partys und vielen Specials feiern!\n \n\nÖffnungszeiten Aussteller: \nSamstag: 11:00 – 20:00 \nSonntag: 11:00 – 18:00 \n\n  \nÖffnungszeiten Convention: \nFreitag: 18:00 – 02:00 Uhr \nSamstag: 11:00 – 01:00 \nSonntag: 11:00 – 18:00 \n  \nÖffnungszeiten Händler/Künstler: \nSamstag: 11:00 – 19:00 \nSonntag: 11:00 – 17:00 \n  \nÖffnungszeiten Maid Café: \nSamstag: 11:00 – 18:00 \nSonntag: 11:00 – 17:00 \n  \nTickets:\n \nEintritt bis 10 Jahre frei! \n  \nTickets könnt ihr online unter https://www.hanamicon.at/shop/ oder bei einer der Vorverkaufsstellen: Anigame (Jakoministraße 8\, 8010 Graz) / Planet-Japan (Ausstellungsstraße 47\, 1020 Wien)/ ChibiNeko (Paulitschgasse 4\, 9020 Klagenfurt am Wörthersee) erwerben. \n  \nSonstiges: \nWeitere Informationen findet Ihr direkt auf der Website unter: https://www.hanamicon.at/
URL:https://www.seifenfabrik.info/termine/hanamicon-3/
END:VEVENT
BEGIN:VEVENT
DTSTART;TZID=Europe/Berlin:20260618T200000
DTEND;TZID=Europe/Berlin:20260618T230000
DTSTAMP:20260421T144043
CREATED:20260306T103707Z
LAST-MODIFIED:20260306T104529Z
UID:12861-1781812800-1781823600@www.seifenfabrik.info
SUMMARY:Konzert Impulso Tenors
DESCRIPTION:Die „IMPULSO TENORS“ – eine musikalische Extraklasse. \n  \nWenn sich große Stimmen\, emotionale Tiefe und stilvolle Eleganz verbinden\, entsteht ein musikalisches Erlebnis\, das unvergessen bleibt – genau das verkörpern die IMPULSO TENORS. Seit ihrem umjubelten Durchbruch bei The Voice of Germany haben Laszlo Maleczky\, German Gholami und Val Mihelčič sich als eine der spannendsten neuen Formationen im Classical-Crossover-Genre etabliert. \nMit ihrer einzigartigen Mischung aus Oper\, Pop und internationalem Flair verzaubern sie die Bühnen Europas. \n  \nIhr aktuelles Album Passione steht ganz im Zeichen musikalischer Vielfalt\, Leidenschaft und künstlerischer Exzellenz. Seit seiner Veröffentlichung im Jahr 2024 begeisterten die drei Tenöre nicht nur in zahlreichen TV-Shows\, Interviews und hochkarätigen Events\, sondern feierten auch ein besonderes Highlight: Im Februar 2025 standen sie vor mehr als 10.000 Menschen beim SemperOpernball Open-Air auf der Bühne – ein Auftritt\, der als emotionaler Höhepunkt des Abends gefeiert wurde. \n  \nBei Ihren Konzertabenden präsentieren sie ein Programm der großen Unterhaltung: Von unvergesslichen Arien und Tenor-Klassikern bis hin zu modernen Pop- und Rocktiteln\, die in ihrer Interpretation zu emotionalen Klangkunstwerken werden. Songs wie „Time To Say Goodbye“\, „You Raise Me Up“\, „Imagine“ oder „Enjoy The Silence“ erklingen in neuen\, tief berührenden Arrangements. Die Impulso Tenors stehen für musikalischen Glanz auf höchstem Niveau – perfekt für einen Abend voller Atmosphäre\, Gänsehaut und großer Gefühle. Lassen Sie sich entführen in eine Welt zwischen klassischer Brillanz und moderner Leidenschaft – ein unvergesslicher Auftritt\, der die Seele berührt. \n  \nTickets unter: \nIMPULSO TENORS – Classical Crossover | Seifenfabrik Graz | 18. Juni 2026 | Eventim \n 
URL:https://www.seifenfabrik.info/termine/konzert-impulso-tenors/
LOCATION:Seifenfabrik\, Angergasse 43\, Graz\, 8010
END:VEVENT
BEGIN:VEVENT
DTSTART;TZID=Europe/Berlin:20260627T080000
DTEND;TZID=Europe/Berlin:20260627T220000
DTSTAMP:20260421T144043
CREATED:20260306T104814Z
LAST-MODIFIED:20260316T114220Z
UID:12867-1782547200-1782597600@www.seifenfabrik.info
SUMMARY:Grazer Riverdays
DESCRIPTION:Die Mur neu erleben! \n  \nIm Sommer 2026 wird der Lebensraum Mur für alle seine Besucher:innen erlebbar gemacht. Tauche ein in dieses Naturjuwel und Naherholungsgebiet mitten in Graz. Lerne die Stadt von einer neuen faszinierenden Seite kennen. Die Riverdays bieten Sport und Erlebnis am Wasser sowie einige Highlights am Land. \n  \nFreut euch von Samsag\, 27.06. bis Sonntag\, 28.06.2026 ganztags auf ein entspanntes Programm im Garten der Seifenfabrik mit Streetfood und spannenden Bewerben auf dem Wasser! \n  \nWeitere Informationen sowie das genaue Programm finden Sie unter: www.grazriverdays.at 
URL:https://www.seifenfabrik.info/termine/grazer-riverdays/
LOCATION:Seifenfabrik\, Angergasse 43\, Graz\, 8010
END:VEVENT
BEGIN:VEVENT
DTSTART;TZID=Europe/Berlin:20260628T080000
DTEND;TZID=Europe/Berlin:20260628T223000
DTSTAMP:20260421T144043
CREATED:20260316T114319Z
LAST-MODIFIED:20260316T114319Z
UID:12917-1782633600-1782685800@www.seifenfabrik.info
SUMMARY:Grazer Riverdays
DESCRIPTION:Die Mur neu erleben! \n  \nIm Sommer 2026 wird der Lebensraum Mur für alle seine Besucher:innen erlebbar gemacht. Tauche ein in dieses Naturjuwel und Naherholungsgebiet mitten in Graz. Lerne die Stadt von einer neuen faszinierenden Seite kennen. Die Riverdays bieten Sport und Erlebnis am Wasser sowie einige Highlights am Land. \n  \nFreut euch von Samsag\, 27.06. bis Sonntag\, 28.06.2026 ganztags auf ein entspanntes Programm im Garten der Seifenfabrik mit Streetfood und spannenden Bewerben auf dem Wasser! \n  \nWeitere Informationen sowie das genaue Programm finden Sie unter: www.grazriverdays.at 
URL:https://www.seifenfabrik.info/termine/grazer-riverdays-2/
END:VEVENT
END:VCALENDAR